BEGIN:VCALENDAR
VERSION:2.0
PRODID:-//wp-events-plugin.com//6.4.10//EN
TZID:Europe/Zurich
X-WR-TIMEZONE:Europe/Zurich
BEGIN:VEVENT
UID:0-249@zkbsportclub.ch
DTSTART;TZID=Europe/Zurich:20260808T100000
DTEND;TZID=Europe/Zurich:20260808T170000
DTSTAMP:20260206T150103Z
URL:https://zkbsportclub.ch/rad/events/tt-wutach/
SUMMARY:TT Wutach
DESCRIPTION:Gruppe 1: (Offen / -- Km / --- Hm)\n\nGruppe 2: (Roger / 97 Km 
 / 1360 Hm)\n\nGruppe 3: (????? / 84 Km / 720 Hm)\n\nBesammlung / Parkplatz
  / Start: Rafz\, Tannewäg 6\, Kiesplatz südlich Werkhof.\n\nVerpflegung:
  Nussgipfelhalt in ????????????????????\n\nAchtung: ID / Pass mitnehmen !!
 !!
LOCATION:Rafz - Werkhof\, Tannewäg 6\, Rafz\, 8197\, Schweiz
X-APPLE-STRUCTURED-LOCATION;VALUE=URI;X-ADDRESS=Tannewäg 6\, Rafz\, 8197\,
  Schweiz;X-APPLE-RADIUS=100;X-TITLE=Rafz - Werkhof:geo:0,0
END:VEVENT
BEGIN:VTIMEZONE
TZID:Europe/Zurich
X-LIC-LOCATION:Europe/Zurich
BEGIN:DAYLIGHT
DTSTART:20260329T030000
TZOFFSETFROM:+0100
TZOFFSETTO:+0200
TZNAME:CEST
END:DAYLIGHT
END:VTIMEZONE
END:VCALENDAR