BEGIN:VCALENDAR
VERSION:2.0
PRODID:-//wp-events-plugin.com//6.4.10//EN
TZID:Europe/Zurich
X-WR-TIMEZONE:Europe/Zurich
BEGIN:VEVENT
UID:0-244@zkbsportclub.ch
DTSTART;TZID=Europe/Zurich:20260905T100000
DTEND;TZID=Europe/Zurich:20260905T160000
DTSTAMP:20260206T144252Z
URL:https://zkbsportclub.ch/rad/events/tt-lindenberg-sued/
SUMMARY:TT Lindenberg Süd
DESCRIPTION:Gruppe 1: (offen\, -- Km\, --- Hm)\n\nGruppe 2: (Peter\, 85 Km\
 , 1225 Hm)\n\nGruppe 3: (Bruno\, 70 Km\, 1030 Hm)\n\nBesammlung\, Parkplat
 z\, Start:  Hausen a. Albis\, Parkplatz Chratz\n\nVerpflegung: Nussgipfel
 halt    wo ??????
LOCATION:Hausen a. A. Parkplatz Chratz\, Weidstrasse 12\, Hausen a. A.\, 89
 15\, Schweiz
X-APPLE-STRUCTURED-LOCATION;VALUE=URI;X-ADDRESS=Weidstrasse 12\, Hausen a. 
 A.\, 8915\, Schweiz;X-APPLE-RADIUS=100;X-TITLE=Hausen a. A. Parkplatz Chra
 tz:geo:0,0
END:VEVENT
BEGIN:VTIMEZONE
TZID:Europe/Zurich
X-LIC-LOCATION:Europe/Zurich
BEGIN:DAYLIGHT
DTSTART:20260329T030000
TZOFFSETFROM:+0100
TZOFFSETTO:+0200
TZNAME:CEST
END:DAYLIGHT
END:VTIMEZONE
END:VCALENDAR