BEGIN:VCALENDAR
VERSION:2.0
PRODID:-//wp-events-plugin.com//6.4.10//EN
TZID:Europe/Zurich
X-WR-TIMEZONE:Europe/Zurich
BEGIN:VEVENT
UID:0-241@zkbsportclub.ch
DTSTART;TZID=Europe/Zurich:20260627T100000
DTEND;TZID=Europe/Zurich:20260627T170000
DTSTAMP:20260206T144106Z
URL:https://zkbsportclub.ch/rad/events/tt-freiamt-2/
SUMMARY:TT Freiamt
DESCRIPTION:Gruppe 1: (offen\, -- Km\, --- Hm)\n\nGruppe 2: (Peter\, 98 Km\
 , 1330 Hm)\n\nGruppe 3: (Bruno\, 75 Km\, 865 Hm)\n\nParkplatz:   Affolte
 rn am Albis\, Friedhof\, Giessenstrasse 31\nWC und Wasser sind am Start vo
 rhanden.\n\nVerpflegung:    Mittagessen im Restaurant Eggträff\, Muri
LOCATION:Affoltern am Albis\, Giessenstr. 13  /  Friedhof\, Affoltern a.A.\
 , 8910\, Schweiz
X-APPLE-STRUCTURED-LOCATION;VALUE=URI;X-ADDRESS=Giessenstr. 13  /  Friedhof
 \, Affoltern a.A.\, 8910\, Schweiz;X-APPLE-RADIUS=100;X-TITLE=Affoltern am
  Albis:geo:0,0
END:VEVENT
BEGIN:VTIMEZONE
TZID:Europe/Zurich
X-LIC-LOCATION:Europe/Zurich
BEGIN:DAYLIGHT
DTSTART:20260329T030000
TZOFFSETFROM:+0100
TZOFFSETTO:+0200
TZNAME:CEST
END:DAYLIGHT
END:VTIMEZONE
END:VCALENDAR