BEGIN:VCALENDAR
VERSION:2.0
PRODID:-//wp-events-plugin.com//6.4.10//EN
TZID:Europe/Zurich
X-WR-TIMEZONE:Europe/Zurich
BEGIN:VEVENT
UID:0-246@zkbsportclub.ch
DTSTART;TZID=Europe/Zurich:20261003T110000
DTEND;TZID=Europe/Zurich:20261003T160000
DTSTAMP:20260206T144340Z
URL:https://zkbsportclub.ch/rad/events/tf-hallau/
SUMMARY:TF Hallau
DESCRIPTION:Gruppe 1: (Offen / -- Km / --- Hm)\n\nGruppe 2: (????? / 75 Km 
 / 1040 Hm)\n\nGruppe 3: (Fritz / 69 Km / 750 Hm)\n\nBesammlung / Parkplatz
  / Startort: Laubbergstrasse in Glattfelden\n\nVerpflegung: Selbstverpfleg
 ung aus dem Veloleibchen\n\nAchtung: Identitätskarte oder Pass mitnehmen.
CATEGORIES:tour
LOCATION:Glattfelden\, Laubbergstrasse nördl. Autobahn\, Glattfelden\, 819
 2\, Schweiz
X-APPLE-STRUCTURED-LOCATION;VALUE=URI;X-ADDRESS=Laubbergstrasse nördl. Aut
 obahn\, Glattfelden\, 8192\, Schweiz;X-APPLE-RADIUS=100;X-TITLE=Glattfelde
 n:geo:0,0
END:VEVENT
BEGIN:VTIMEZONE
TZID:Europe/Zurich
X-LIC-LOCATION:Europe/Zurich
BEGIN:DAYLIGHT
DTSTART:20260329T030000
TZOFFSETFROM:+0100
TZOFFSETTO:+0200
TZNAME:CEST
END:DAYLIGHT
END:VTIMEZONE
END:VCALENDAR