BEGIN:VCALENDAR
VERSION:2.0
PRODID:-//wp-events-plugin.com//6.4.10//EN
TZID:Europe/Zurich
X-WR-TIMEZONE:Europe/Zurich
BEGIN:VEVENT
UID:0-252@zkbsportclub.ch
DTSTART;TZID=Europe/Zurich:20261114T174500
DTEND;TZID=Europe/Zurich:20261114T224500
DTSTAMP:20260213T093425Z
URL:https://zkbsportclub.ch/rad/events/abschlussabend-2026/
SUMMARY:Abschlussabend 2026
DESCRIPTION:Abschlussabend für alle Mitglieder mit Ihren Partner/Partnerin
 nen im Gasthaus Sternen\, Wangen b. Dübendorf\nSamstag\, 14. November 202
 6\,   17:45 Uhr  A P E R O\nanschliessend Nachtessen und reichhaltiger 
 Gabentisch für "Tourenwertung"\nAnmeldungen bis Montag 09. November 2026\
 nschriftlich an Roger Rubli\, Rebstrasse 46\, 8156 Oberhasli\n- Homepage (
 Veranstaltungen)\noder\nper Email an: roger.rubli@bluewin.ch \nZahlung: Sp
 ortclub ZKB\, 8010 Zürich / IBAN: CH84 0070 0110 0060 8487 9\n&nbsp\;\n\n
 Detaillierte Einladung folgt später .....\n\n&nbsp\;
LOCATION:Wangen bei Dübendorf\, Restaurant Sternen\, Sennhüttenstrasse 1\
 , Wangen bei Dübendorf\, 8602\, Schweiz
X-APPLE-STRUCTURED-LOCATION;VALUE=URI;X-ADDRESS=Sennhüttenstrasse 1\, Wang
 en bei Dübendorf\, 8602\, Schweiz;X-APPLE-RADIUS=100;X-TITLE=Wangen bei D
 übendorf\, Restaurant Sternen:geo:0,0
END:VEVENT
BEGIN:VTIMEZONE
TZID:Europe/Zurich
X-LIC-LOCATION:Europe/Zurich
BEGIN:STANDARD
DTSTART:20261025T020000
TZOFFSETFROM:+0200
TZOFFSETTO:+0100
TZNAME:CET
END:STANDARD
END:VTIMEZONE
END:VCALENDAR