BEGIN:VCALENDAR
VERSION:2.0
PRODID:-//wp-events-plugin.com//6.4.10//EN
TZID:Europe/Zurich
X-WR-TIMEZONE:Europe/Zurich
BEGIN:VEVENT
UID:0-160@zkbsportclub.ch
DTSTART;TZID=Europe/Zurich:20221119T180000
DTEND;TZID=Europe/Zurich:20221119T230000
DTSTAMP:20221027T153505Z
URL:https://zkbsportclub.ch/rad/events/abschlussabend-2022/
SUMMARY:Abschlussabend 2022
DESCRIPTION:Abschlussabend für alle Mitglieder mit Ihren Partner/Partnerin
 nen\nSamstag\, 19. November 2022\,   18:00h  A P E R O\nanschliessend N
 achtessen und reichhaltiger Gabentisch für "Tourenwertung"\nEinzahlung 30
 .00 Fr. pro Person über folgendes Konto:\nSportclub Zürcher Kantonalbank
 \, Sektion Radsport\, IBAN CH84 0070 0110 0060 8487 9\n\n&nbsp\;\n\nDetail
 lierte Einladung\n\n&nbsp\;\nAnmeldung über Homepage - Termin: bis 14. No
 vember 2022\n&nbsp\;\n\n 	\n\n 	\n\n\n
LOCATION:Restaurant Sorell Dübendorf\, Zürichstrasse 94/96\, Dübendorf\,
  8600\, Schweiz
X-APPLE-STRUCTURED-LOCATION;VALUE=URI;X-ADDRESS=Zürichstrasse 94/96\, Düb
 endorf\, 8600\, Schweiz;X-APPLE-RADIUS=100;X-TITLE=Restaurant Sorell Dübe
 ndorf:geo:0,0
END:VEVENT
BEGIN:VTIMEZONE
TZID:Europe/Zurich
X-LIC-LOCATION:Europe/Zurich
BEGIN:STANDARD
DTSTART:20221030T020000
TZOFFSETFROM:+0200
TZOFFSETTO:+0100
TZNAME:CET
END:STANDARD
END:VTIMEZONE
END:VCALENDAR