BEGIN:VCALENDAR
VERSION:2.0
CALSCALE:GREGORIAN
PRODID:http://www.killingbulls.ch/AnmeldV2/agenda_new.php
METHOD:PUBLISH
X-WR-TIMEZONE:Europe/Zurich
BEGIN:VEVENT
UID:RD-2026-04-15-id510-robin@zkbsportclub.ch
ORGANIZER;CN="Killng Bulls":mailto:robin@zkbsportclub.ch
SUMMARY:GV 2026 - Eisbahn-Restaurant
DESCRIPTION:GV
LOCATION:Dielsdorf
DTSTART:20260415T183000
DTEND:20260415T210000
CREATED:20260423T131909
DTSTAMP:20260423T131909
END:VEVENT
BEGIN:VEVENT
UID:RD-2026-09-09-id511-robin@zkbsportclub.ch
ORGANIZER;CN="Killng Bulls":mailto:robin@zkbsportclub.ch
SUMMARY:Trainingslager MI 09-09-26 bis SO 13-09-26
DESCRIPTION:Trainingslager
LOCATION:Pribram CZ
DTSTART:20260909T000000
DTEND:20260909T
CREATED:20260423T131909
DTSTAMP:20260423T131909
END:VEVENT
BEGIN:VEVENT
UID:RD-2026-05-17-id512-robin@zkbsportclub.ch
ORGANIZER;CN="Killng Bulls":mailto:robin@zkbsportclub.ch
SUMMARY:Killing Bulls - HC 88 Baar
DESCRIPTION:Sommereis (Gegner bringt Schiri)
LOCATION:Heuried
DTSTART:20260517T180000
DTEND:20260517T200000
CREATED:20260423T131909
DTSTAMP:20260423T131909
END:VEVENT
BEGIN:VEVENT
UID:RD-2026-06-27-id513-robin@zkbsportclub.ch
ORGANIZER;CN="Killng Bulls":mailto:robin@zkbsportclub.ch
SUMMARY:Killing Bulls - HC 88 Baar
DESCRIPTION:Sommereis (Gegner bringt Schiri)
LOCATION:Heuried
DTSTART:20260627T200000
DTEND:20260627T220000
CREATED:20260423T131909
DTSTAMP:20260423T131909
END:VEVENT
BEGIN:VEVENT
UID:RD-2026-05-09-id514-robin@zkbsportclub.ch
ORGANIZER;CN="Killng Bulls":mailto:robin@zkbsportclub.ch
SUMMARY:Killing Bulls - UBS
DESCRIPTION:Sommereis (ohne Schiri)
LOCATION:KEBO Oerlikon
DTSTART:20260509T193000
DTEND:20260509T213000
CREATED:20260423T131909
DTSTAMP:20260423T131909
END:VEVENT
BEGIN:VEVENT
UID:RD-2026-05-30-id515-robin@zkbsportclub.ch
ORGANIZER;CN="Killng Bulls":mailto:robin@zkbsportclub.ch
SUMMARY:Gegner noch offen
DESCRIPTION:Sommereis (ohne Schiri)
LOCATION:KEBO Oerlikon
DTSTART:20260530T193000
DTEND:20260530T213000
CREATED:20260423T131909
DTSTAMP:20260423T131909
END:VEVENT
BEGIN:VEVENT
UID:RD-2026-09-19-id517-robin@zkbsportclub.ch
ORGANIZER;CN="Killng Bulls":mailto:robin@zkbsportclub.ch
SUMMARY:HC Dragons - Killing Bulls
DESCRIPTION:Plauschmatch
LOCATION:BÃ¼lach
DTSTART:20260919T091500
DTEND:20260919T111500
CREATED:20260423T131909
DTSTAMP:20260423T131909
END:VEVENT
BEGIN:VEVENT
UID:RD-2026-10-17-id518-robin@zkbsportclub.ch
ORGANIZER;CN="Killng Bulls":mailto:robin@zkbsportclub.ch
SUMMARY:Killing Bulls - EHC Butterfly
DESCRIPTION:Plauschmatch
LOCATION:BÃ¼lach
DTSTART:20261017T090000
DTEND:20261017T110000
CREATED:20260423T131909
DTSTAMP:20260423T131909
END:VEVENT
BEGIN:VEVENT
UID:RD-2026-11-28-id519-robin@zkbsportclub.ch
ORGANIZER;CN="Killng Bulls":mailto:robin@zkbsportclub.ch
SUMMARY:Killing Bulls - HC Dragons
DESCRIPTION:Plauschmatch
LOCATION:BÃ¼lach
DTSTART:20261128T090000
DTEND:20261128T110000
CREATED:20260423T131909
DTSTAMP:20260423T131909
END:VEVENT
BEGIN:VEVENT
UID:RD-2026-10-31-id520-robin@zkbsportclub.ch
ORGANIZER;CN="Killng Bulls":mailto:robin@zkbsportclub.ch
SUMMARY:Killing Bulls - Hirslen Selection
DESCRIPTION:Plauschmatch
LOCATION:BÃ¼lach
DTSTART:20261031T090000
DTEND:20261031T110000
CREATED:20260423T131909
DTSTAMP:20260423T131909
END:VEVENT
BEGIN:VEVENT
UID:RD-2026-12-26-id521-robin@zkbsportclub.ch
ORGANIZER;CN="Killng Bulls":mailto:robin@zkbsportclub.ch
SUMMARY:Gegner noch offen
DESCRIPTION:Plauschmatch
LOCATION:BÃ¼lach
DTSTART:20261226T090000
DTEND:20261226T110000
CREATED:20260423T131909
DTSTAMP:20260423T131909
END:VEVENT
BEGIN:VEVENT
UID:RD-2027-01-30-id522-robin@zkbsportclub.ch
ORGANIZER;CN="Killng Bulls":mailto:robin@zkbsportclub.ch
SUMMARY:Killing Bulls - HC Grappa
DESCRIPTION:Plauschmatch
LOCATION:BÃ¼lach
DTSTART:20270130T090000
DTEND:20270130T110000
CREATED:20260423T131909
DTSTAMP:20260423T131909
END:VEVENT
BEGIN:VEVENT
UID:RD-2027-02-20-id523-robin@zkbsportclub.ch
ORGANIZER;CN="Killng Bulls":mailto:robin@zkbsportclub.ch
SUMMARY:Killing Bulls - FC Schwamendingen
DESCRIPTION:Plauschmatch
LOCATION:BÃ¼lach
DTSTART:20270220T090000
DTEND:20270220T110000
CREATED:20260423T131909
DTSTAMP:20260423T131909
END:VEVENT
BEGIN:VEVENT
UID:RD-2027-01-23-id524-robin@zkbsportclub.ch
ORGANIZER;CN="Killng Bulls":mailto:robin@zkbsportclub.ch
SUMMARY:EHC Butterfly - Killing Bulls
DESCRIPTION:Plauschmatch
LOCATION:Wetzikon
DTSTART:20270123T164500
DTEND:20270123T184500
CREATED:20260423T131909
DTSTAMP:20260423T131909
END:VEVENT
BEGIN:VEVENT
UID:RD-2027-01-09-id525-robin@zkbsportclub.ch
ORGANIZER;CN="Killng Bulls":mailto:robin@zkbsportclub.ch
SUMMARY:HC Grappa - Killing Bulls
DESCRIPTION:Plauschmatch
LOCATION:Dielsdorf
DTSTART:20270109T073000
DTEND:20270109T093000
CREATED:20260423T131909
DTSTAMP:20260423T131909
END:VEVENT
BEGIN:VEVENT
UID:RD-2026-12-13-id526-robin@zkbsportclub.ch
ORGANIZER;CN="Killng Bulls":mailto:robin@zkbsportclub.ch
SUMMARY:FC Schwamendingen - Killing Bulls
DESCRIPTION:Plauschmatch
LOCATION:Wetzikon
DTSTART:20261213T080000
DTEND:20261213T100000
CREATED:20260423T131909
DTSTAMP:20260423T131909
END:VEVENT
BEGIN:VEVENT
UID:RD-2027-02-13-id527-robin@zkbsportclub.ch
ORGANIZER;CN="Killng Bulls":mailto:robin@zkbsportclub.ch
SUMMARY:Hirslen Selection - Killing Bulls
DESCRIPTION:Plauschmatch
LOCATION:BÃ¼lach
DTSTART:20270213T090000
DTEND:20270213T110000
CREATED:20260423T131909
DTSTAMP:20260423T131909
END:VEVENT
BEGIN:VEVENT
UID:RD-2026-08-22-id528-robin@zkbsportclub.ch
ORGANIZER;CN="Killng Bulls":mailto:robin@zkbsportclub.ch
SUMMARY:SCK Senioren Plausch - Killing Bulls
DESCRIPTION:Plauschmatch
LOCATION:KEK KÃ¼snacht ZH
DTSTART:20260822T191500
DTEND:20260822T211500
CREATED:20260423T131909
DTSTAMP:20260423T131909
END:VEVENT
BEGIN:VEVENT
UID:RD-2026-08-29-id529-robin@zkbsportclub.ch
ORGANIZER;CN="Killng Bulls":mailto:robin@zkbsportclub.ch
SUMMARY:SCK Senioren Plausch - Killing Bulls
DESCRIPTION:Plauschmatch
LOCATION:KEK KÃ¼snacht ZH
DTSTART:20260829T191500
DTEND:20260829T211500
CREATED:20260423T131909
DTSTAMP:20260423T131909
END:VEVENT
BEGIN:VEVENT
UID:RD-2026-09-27-id530-robin@zkbsportclub.ch
ORGANIZER;CN="Killng Bulls":mailto:robin@zkbsportclub.ch
SUMMARY:Killing Bulls - UBS
DESCRIPTION:Plauschmatch
LOCATION:Heuried
DTSTART:20260927T100000
DTEND:20260927T121500
CREATED:20260423T131909
DTSTAMP:20260423T131909
END:VEVENT
BEGIN:VEVENT
UID:RD-2026-10-11-id531-robin@zkbsportclub.ch
ORGANIZER;CN="Killng Bulls":mailto:robin@zkbsportclub.ch
SUMMARY:Gegner noch offen
DESCRIPTION:Plauschmatch
LOCATION:Heuried
DTSTART:20261011T074500
DTEND:20261011T094500
CREATED:20260423T131909
DTSTAMP:20260423T131909
END:VEVENT
BEGIN:VEVENT
UID:RD-2027-02-28-id532-robin@zkbsportclub.ch
ORGANIZER;CN="Killng Bulls":mailto:robin@zkbsportclub.ch
SUMMARY:Gegner noch offen
DESCRIPTION:Plauschmatch
LOCATION:Heuried
DTSTART:20270228T100000
DTEND:20270228T121500
CREATED:20260423T131909
DTSTAMP:20260423T131909
END:VEVENT
BEGIN:VEVENT
UID:RD-2026-11-15-id533-robin@zkbsportclub.ch
ORGANIZER;CN="Killng Bulls":mailto:robin@zkbsportclub.ch
SUMMARY:UBS - Killing Bulls
DESCRIPTION:Plauschmatch
LOCATION:Heuried
DTSTART:20261115T074500
DTEND:20261115T094500
CREATED:20260423T131909
DTSTAMP:20260423T131909
END:VEVENT
BEGIN:VEVENT
UID:RD-2026-05-04-id534-robin@zkbsportclub.ch
ORGANIZER;CN="Killng Bulls":mailto:robin@zkbsportclub.ch
SUMMARY:UBS - Killing Bulls
DESCRIPTION:Plauschmatch
LOCATION:Heuried
DTSTART:20260504T204500
DTEND:20260504T221500
CREATED:20260423T131909
DTSTAMP:20260423T131909
END:VEVENT
END:VCALENDAR